BEGIN:VCALENDAR
VERSION:2.0
PRODID:-//Inclusive Theatre Company - ECPv6.15.17.1//NONSGML v1.0//EN
CALSCALE:GREGORIAN
METHOD:PUBLISH
X-WR-CALNAME:Inclusive Theatre Company
X-ORIGINAL-URL:https://www.twocantheatre.org.uk
X-WR-CALDESC:Events for Inclusive Theatre Company
REFRESH-INTERVAL;VALUE=DURATION:PT1H
X-Robots-Tag:noindex
X-PUBLISHED-TTL:PT1H
BEGIN:VTIMEZONE
TZID:UTC
BEGIN:STANDARD
TZOFFSETFROM:+0000
TZOFFSETTO:+0000
TZNAME:UTC
DTSTART:20250101T000000
END:STANDARD
END:VTIMEZONE
BEGIN:VEVENT
DTSTART;TZID=UTC:20260205T193000
DTEND;TZID=UTC:20260205T213000
DTSTAMP:20260424T101207
CREATED:20260303T115237Z
LAST-MODIFIED:20260303T120020Z
UID:1558-1770319800-1770327000@www.twocantheatre.org.uk
SUMMARY:'MEET FRED' Theatre Trip with Strike A light at Guildhall Arts Gloucester
DESCRIPTION:Meet Fred is a darkly funny\, thought-provoking puppet show from award-winning inclusive theatre company Hijinx\, created in association with Blind Summit. \nNow celebrating its 10th anniversary UK tour\, this critically acclaimed production follows Fred – a two-foot-tall cloth puppet – as he tries to live an ordinary life: finding work\, love and a place in society. When his Puppetry Living Allowance is threatened\, Fred’s world begins to unravel\, raising sharp and timely questions about independence\, identity and who really holds the strings. \nBlending razor-sharp political satire\, bold comedy and moments of surprising tenderness\, Meet Fred has toured over 20 countries and captivated audiences worldwide. \nPerformed by a talented cast of artists with and without learning disabilities and/or autism\, the show brings authenticity\, humour and heart to the stage. \nCritics call it “essential viewing” and “truly
URL:https://www.twocantheatre.org.uk/event/meet-fred-theatre-trip-with-strike-a-light-at-guildhall-arts-gloucester/
LOCATION:Guildhall Arts Centre\, 23 Eastgate St\, Gloucester GL1 1NS\, GL1 1NS
ATTACH;FMTTYPE=image/jpeg:https://www.twocantheatre.org.uk/wp-content/uploads/2026/03/meet-fred.jpeg
ORGANIZER;CN="TwoCan":MAILTO:louise@twocantheatre.org.uk
END:VEVENT
BEGIN:VEVENT
DTSTART;TZID=UTC:20260213T193000
DTEND;TZID=UTC:20260213T213000
DTSTAMP:20260424T101207
CREATED:20260303T115925Z
LAST-MODIFIED:20260303T115925Z
UID:1567-1771011000-1771018200@www.twocantheatre.org.uk
SUMMARY:'Personal Spot' Theatre Trip with Strike A light at Music Works Gloucester
DESCRIPTION:Midgitte Bardot’s Personal Spot comes to Gloucester for the first time on Friday 13 February 2026 at The Music Works Hub. \nPresented by Strike A Light\, this pay-what-you-can evening promises a lively\, unpredictable mix of drag\, live performance\, music and joyful chaos. Led by Midgitte Bardot – the bold and hilarious drag alter-ego of performance artist Tamm Reynolds – the show features special guest performers from across live art\, dance\, music and more \nWith roots in Gloucestershire\, this South West debut is also a special homecoming\, offering o night that is playful\, expressive and unapologetically entertaining. Expect big personalities\, creative surprises and an atmosphere that celebrates freedom\, humour and connection
URL:https://www.twocantheatre.org.uk/event/personal-spot-theatre-trip-with-strike-a-light-at-music-works-gloucester/
LOCATION:Music works\, 2nd floor\, Kings House\, 27 St Aldate St\,\, GL1 1RP
ATTACH;FMTTYPE=image/jpeg:https://www.twocantheatre.org.uk/wp-content/uploads/2026/03/midget-bardot.jpeg
ORGANIZER;CN="TwoCan":MAILTO:louise@twocantheatre.org.uk
END:VEVENT
END:VCALENDAR