BEGIN:VCALENDAR
VERSION:2.0
PRODID:-//Inclusive Theatre Company - ECPv6.15.17.1//NONSGML v1.0//EN
CALSCALE:GREGORIAN
METHOD:PUBLISH
X-WR-CALNAME:Inclusive Theatre Company
X-ORIGINAL-URL:https://www.twocantheatre.org.uk
X-WR-CALDESC:Events for Inclusive Theatre Company
REFRESH-INTERVAL;VALUE=DURATION:PT1H
X-Robots-Tag:noindex
X-PUBLISHED-TTL:PT1H
BEGIN:VTIMEZONE
TZID:UTC
BEGIN:STANDARD
TZOFFSETFROM:+0000
TZOFFSETTO:+0000
TZNAME:UTC
DTSTART:20240101T000000
END:STANDARD
END:VTIMEZONE
BEGIN:VEVENT
DTSTART;VALUE=DATE:20250826
DTEND;VALUE=DATE:20250831
DTSTAMP:20260424T194518
CREATED:20250717T212825Z
LAST-MODIFIED:20250717T212825Z
UID:1371-1756166400-1756598399@www.twocantheatre.org.uk
SUMMARY:'Ignite' creative summer week 2025
DESCRIPTION:Tuesday\, 26 August 2025 10:30am to Saturday\, 30 August 2025 3:30pm\n\nJoin TwoCan for a fun week where you can grow your creativity and pass on and gain new skills. Young people aged between 10-25 years old will be encouraged to take part in a series of performance workshops where they will have the opportunity to take a creative journey\, exploring the arts world\, discovering their potential as artists\, developing leadership skills – and gaining a recognised fully inclusive qualification along the way. They will work with theatre practitioners to explore what inspires them and find out what skills they have\, which can ignite a passion in others. The week’s activities will encourage creativity\, communication\, and confidence and culminate in a live performance for friends and family on the last day. \nTwoCan \nAlkerton\, Eastington GL10 3AA \nTuesday 26th August – Saturday 30th August \n10.30am – 3.30pm \nCost £100. \n\n 
URL:https://www.twocantheatre.org.uk/event/ignite-creative-summer-week-2025/
LOCATION:TwoCan Theatre\, Alkerton\, Stonehouse\, GL10 3AA\, United Kingdom
ATTACH;FMTTYPE=image/jpeg:https://www.twocantheatre.org.uk/wp-content/uploads/2025/07/Untitled-A5.jpeg
ORGANIZER;CN="TwoCan":MAILTO:louise@twocantheatre.org.uk
END:VEVENT
END:VCALENDAR