BEGIN:VCALENDAR
VERSION:2.0
PRODID:-//Inclusive Theatre Company - ECPv6.15.17.1//NONSGML v1.0//EN
CALSCALE:GREGORIAN
METHOD:PUBLISH
X-WR-CALNAME:Inclusive Theatre Company
X-ORIGINAL-URL:https://www.twocantheatre.org.uk
X-WR-CALDESC:Events for Inclusive Theatre Company
REFRESH-INTERVAL;VALUE=DURATION:PT1H
X-Robots-Tag:noindex
X-PUBLISHED-TTL:PT1H
BEGIN:VTIMEZONE
TZID:UTC
BEGIN:STANDARD
TZOFFSETFROM:+0000
TZOFFSETTO:+0000
TZNAME:UTC
DTSTART:20250101T000000
END:STANDARD
END:VTIMEZONE
BEGIN:VEVENT
DTSTART;TZID=UTC:20260213T193000
DTEND;TZID=UTC:20260213T213000
DTSTAMP:20260424T155133
CREATED:20260303T115925Z
LAST-MODIFIED:20260303T115925Z
UID:1567-1771011000-1771018200@www.twocantheatre.org.uk
SUMMARY:'Personal Spot' Theatre Trip with Strike A light at Music Works Gloucester
DESCRIPTION:Midgitte Bardot’s Personal Spot comes to Gloucester for the first time on Friday 13 February 2026 at The Music Works Hub. \nPresented by Strike A Light\, this pay-what-you-can evening promises a lively\, unpredictable mix of drag\, live performance\, music and joyful chaos. Led by Midgitte Bardot – the bold and hilarious drag alter-ego of performance artist Tamm Reynolds – the show features special guest performers from across live art\, dance\, music and more \nWith roots in Gloucestershire\, this South West debut is also a special homecoming\, offering o night that is playful\, expressive and unapologetically entertaining. Expect big personalities\, creative surprises and an atmosphere that celebrates freedom\, humour and connection
URL:https://www.twocantheatre.org.uk/event/personal-spot-theatre-trip-with-strike-a-light-at-music-works-gloucester/
LOCATION:Music works\, 2nd floor\, Kings House\, 27 St Aldate St\,\, GL1 1RP
ATTACH;FMTTYPE=image/jpeg:https://www.twocantheatre.org.uk/wp-content/uploads/2026/03/midget-bardot.jpeg
ORGANIZER;CN="TwoCan":MAILTO:louise@twocantheatre.org.uk
END:VEVENT
BEGIN:VEVENT
DTSTART;VALUE=DATE:20260407
DTEND;VALUE=DATE:20260411
DTSTAMP:20260424T155133
CREATED:20260303T105144Z
LAST-MODIFIED:20260303T112015Z
UID:1531-1775520000-1775865599@www.twocantheatre.org.uk
SUMMARY:'AMPLIFY' Four day Story telling project
DESCRIPTION:A Four-Day Digital Storytelling Project by TwoCan Theatre Company \nAmplify is an empowering four-day creative project for young disabled people aged 10–30\, designed to celebrate identity\, voice and self-expression through theatre and digital storytelling. \nUsing inclusive drama techniques\, movement\, music\, visual art\, and supported scripting\, participants will create short\, accessible social media reels that share who they are\, what matters to them\, and what they want the world to hear. \nFrom playful ensemble-building to filmed personal statements\, Amplify supports young people to: \n\nBuild confidence and self-advocacy\nDevelop creative and digital skills\nStrengthen communication in their preferred form (spoken\, signed\, AAC\, visual\, movement-based)\nChallenge stereotypes around disability\nSee themselves represented positively and authentically\n\nEach participant will create material that can be edited into a 30–60 second reel for social media and/or TwoCan promotion\, complete with captions and accessible design. The project culminates in a celebratory screening and an online campaign sharing their voices with the wider community\, if appropriate. \nAmplify is about visibility\, pride\, and taking up space. \n10.30am – 3.30pm \nCost £100. \n\n 
URL:https://www.twocantheatre.org.uk/event/amplify-four-day-story-telling-project/
LOCATION:TwoCan Theatre\, Alkerton\, Stonehouse\, GL10 3AA\, United Kingdom
ATTACH;FMTTYPE=image/png:https://www.twocantheatre.org.uk/wp-content/uploads/2026/03/Amplify-your-message-with-colours.png
ORGANIZER;CN="TwoCan":MAILTO:louise@twocantheatre.org.uk
END:VEVENT
BEGIN:VEVENT
DTSTART;TZID=UTC:20260411T110000
DTEND;TZID=UTC:20260411T130000
DTSTAMP:20260424T155133
CREATED:20260303T110100Z
LAST-MODIFIED:20260303T120326Z
UID:1534-1775905200-1775912400@www.twocantheatre.org.uk
SUMMARY:Wiggly Family Cooking Workshops
DESCRIPTION:
URL:https://www.twocantheatre.org.uk/event/wiggly-family-cooking-workshops/
LOCATION:TwoCan Theatre\, Alkerton\, Stonehouse\, GL10 3AA\, United Kingdom
ATTACH;FMTTYPE=image/jpeg:https://www.twocantheatre.org.uk/wp-content/uploads/2026/03/WIGGLY-MASTER-STRAPLINE.jpg
ORGANIZER;CN="Wiggly":MAILTO:office@wigglycharity.org
END:VEVENT
END:VCALENDAR