BEGIN:VCALENDAR
VERSION:2.0
PRODID:-//Inclusive Theatre Company - ECPv6.15.17.1//NONSGML v1.0//EN
CALSCALE:GREGORIAN
METHOD:PUBLISH
X-WR-CALNAME:Inclusive Theatre Company
X-ORIGINAL-URL:https://www.twocantheatre.org.uk
X-WR-CALDESC:Events for Inclusive Theatre Company
REFRESH-INTERVAL;VALUE=DURATION:PT1H
X-Robots-Tag:noindex
X-PUBLISHED-TTL:PT1H
BEGIN:VTIMEZONE
TZID:UTC
BEGIN:STANDARD
TZOFFSETFROM:+0000
TZOFFSETTO:+0000
TZNAME:UTC
DTSTART:20240101T000000
END:STANDARD
END:VTIMEZONE
BEGIN:VEVENT
DTSTART;TZID=UTC:20250621T110000
DTEND;TZID=UTC:20250621T160000
DTSTAMP:20260425T003528
CREATED:20250515T103103Z
LAST-MODIFIED:20250515T103103Z
UID:1268-1750503600-1750521600@www.twocantheatre.org.uk
SUMMARY:Gas Green Food and Arts Festival 21st June 2025
DESCRIPTION:Gas Green Baptist Church is having a Food and Arts festival with all funds raised going to TwoCan. The event is free to everyone and will see TwoCans choir performing at the event at 12pm. \n 
URL:https://www.twocantheatre.org.uk/event/gas-green-food-and-arts-festival-21st-june-2025/
LOCATION:13 Russell Street\, Cheltenham\, GL51 9HJ\, United Kingdom
ATTACH;FMTTYPE=image/jpeg:https://www.twocantheatre.org.uk/wp-content/uploads/2025/05/IMG_2171.jpeg
ORGANIZER;CN="Gas Green Baptist Church":MAILTO:minister@gasgreen.org.uk
END:VEVENT
END:VCALENDAR