BEGIN:VCALENDAR
VERSION:2.0
PRODID:-//Inclusive Theatre Company - ECPv6.15.17.1//NONSGML v1.0//EN
CALSCALE:GREGORIAN
METHOD:PUBLISH
X-ORIGINAL-URL:https://www.twocantheatre.org.uk
X-WR-CALDESC:Events for Inclusive Theatre Company
REFRESH-INTERVAL;VALUE=DURATION:PT1H
X-Robots-Tag:noindex
X-PUBLISHED-TTL:PT1H
BEGIN:VTIMEZONE
TZID:UTC
BEGIN:STANDARD
TZOFFSETFROM:+0000
TZOFFSETTO:+0000
TZNAME:UTC
DTSTART:20240101T000000
END:STANDARD
END:VTIMEZONE
BEGIN:VEVENT
DTSTART;TZID=UTC:20250422T103000
DTEND;TZID=UTC:20250426T153000
DTSTAMP:20260425T035119
CREATED:20250319T142845Z
LAST-MODIFIED:20250319T142845Z
UID:1188-1745317800-1745681400@www.twocantheatre.org.uk
SUMMARY:Little Big Things Easter programme
DESCRIPTION:Join TwoCan practitioners to use a variety of creative forms\, to devise\, rehearse and perform a ‘Little Big’ performance that will be shown to family and friends at the end of the week before transferring to the Cheltenham Festival Of Performing Arts on May. \nThe weeks activities run from Tuesday 22nd April – Saturday 26th April from 10.30am – 3.30pm. \nThere will be a preview performance for family and friends at 3pm on Saturday 26th April.
URL:https://www.twocantheatre.org.uk/event/little-big-things-easter-programme/
LOCATION:TwoCan Theatre\, Alkerton\, Stonehouse\, GL10 3AA\, United Kingdom
ATTACH;FMTTYPE=image/png:https://www.twocantheatre.org.uk/wp-content/uploads/2025/03/Untitled-design.png
END:VEVENT
END:VCALENDAR