BEGIN:VCALENDAR
VERSION:2.0
PRODID:-//Inclusive Theatre Company - ECPv6.15.17.1//NONSGML v1.0//EN
CALSCALE:GREGORIAN
METHOD:PUBLISH
X-ORIGINAL-URL:https://www.twocantheatre.org.uk
X-WR-CALDESC:Events for Inclusive Theatre Company
REFRESH-INTERVAL;VALUE=DURATION:PT1H
X-Robots-Tag:noindex
X-PUBLISHED-TTL:PT1H
BEGIN:VTIMEZONE
TZID:UTC
BEGIN:STANDARD
TZOFFSETFROM:+0000
TZOFFSETTO:+0000
TZNAME:UTC
DTSTART:20230101T000000
END:STANDARD
END:VTIMEZONE
BEGIN:VEVENT
DTSTART;VALUE=DATE:20241026
DTEND;VALUE=DATE:20241027
DTSTAMP:20260425T154130
CREATED:20240429T103834Z
LAST-MODIFIED:20240507T192016Z
UID:398-1729900800-1729987199@www.twocantheatre.org.uk
SUMMARY:PJ and cinema night
DESCRIPTION:We’re hosting a cinema night! Members will have the chance to socialise and watch some of their favourite flicks.  \nSign up!
URL:https://www.twocantheatre.org.uk/event/pj-and-cinema-night/
ATTACH;FMTTYPE=image/jpeg:https://www.twocantheatre.org.uk/wp-content/uploads/2024/04/l-and-c-sleep-over.jpg
END:VEVENT
END:VCALENDAR