BEGIN:VCALENDAR
VERSION:2.0
PRODID:-//Inclusive Theatre Company - ECPv6.15.17.1//NONSGML v1.0//EN
CALSCALE:GREGORIAN
METHOD:PUBLISH
X-WR-CALNAME:Inclusive Theatre Company
X-ORIGINAL-URL:https://www.twocantheatre.org.uk
X-WR-CALDESC:Events for Inclusive Theatre Company
REFRESH-INTERVAL;VALUE=DURATION:PT1H
X-Robots-Tag:noindex
X-PUBLISHED-TTL:PT1H
BEGIN:VTIMEZONE
TZID:UTC
BEGIN:STANDARD
TZOFFSETFROM:+0000
TZOFFSETTO:+0000
TZNAME:UTC
DTSTART:20230101T000000
END:STANDARD
END:VTIMEZONE
BEGIN:VEVENT
DTSTART;TZID=UTC:20241017T100000
DTEND;TZID=UTC:20241017T170000
DTSTAMP:20260425T134933
CREATED:20240429T173402Z
LAST-MODIFIED:20240507T193846Z
UID:425-1729159200-1729184400@www.twocantheatre.org.uk
SUMMARY:Rachel and Birdy take on the Cotswold Way: Dursley to Wotton under Edge
DESCRIPTION:Rachel\, one of our Creative Practitioners and our therapy dog\, Birdie\, will be taking on the Cotswold Way\, a 102-mile long walk from Chipping Camden to Bath\, along the edge of the picturesque Cotswolds. They’ll be walking over the next 12 months to raise money to help with our building costs. \nTheir route includes: \n\n29th March 2024: Chipping Camden to Stanton (Via Broadway ½ way)\n16th April 2024: Stanton to Winchcombe\n11th May 2024: Winchcombe to Dowdeswell\n10th June 2024: Dowdeswell to Birdlip\n7th July 2024: Birdlip to Randwick\n6th September 2024: Randwick to Dursley\n17th October 2024: Dursley to Wotton under edge\n11th November 2024: Wotton under edge to Little Sodesbury\n11th February 2025: Little Sodesbury to Cold Ashton\n8th March 2025: Cold Ashton to Bath\n\nIf you’re looking to support Rachel and Birdie on one of these dates\, please get in touch on rachel@twocantheatre.org.uk or to sponsor the dynamic duo\, click below. \nDonate Today!
URL:https://www.twocantheatre.org.uk/event/rachel-and-birdy-take-on-the-cotswold-way-dursley-to-wotton-under-edge/
ATTACH;FMTTYPE=image/jpeg:https://www.twocantheatre.org.uk/wp-content/uploads/2024/05/7-walk.jpg
ORGANIZER;CN="Rachel":MAILTO:rachel.fitzpatrick@twocantheatre.org.uk
END:VEVENT
END:VCALENDAR