BEGIN:VCALENDAR
VERSION:2.0
PRODID:-//Inclusive Theatre Company - ECPv6.15.17.1//NONSGML v1.0//EN
CALSCALE:GREGORIAN
METHOD:PUBLISH
X-WR-CALNAME:Inclusive Theatre Company
X-ORIGINAL-URL:https://www.twocantheatre.org.uk
X-WR-CALDESC:Events for Inclusive Theatre Company
REFRESH-INTERVAL;VALUE=DURATION:PT1H
X-Robots-Tag:noindex
X-PUBLISHED-TTL:PT1H
BEGIN:VTIMEZONE
TZID:UTC
BEGIN:STANDARD
TZOFFSETFROM:+0000
TZOFFSETTO:+0000
TZNAME:UTC
DTSTART:20230101T000000
END:STANDARD
END:VTIMEZONE
BEGIN:VEVENT
DTSTART;VALUE=DATE:20241001
DTEND;VALUE=DATE:20241002
DTSTAMP:20260425T135029
CREATED:20240429T102531Z
LAST-MODIFIED:20240507T192032Z
UID:393-1727740800-1727827199@www.twocantheatre.org.uk
SUMMARY:Music gig
DESCRIPTION:We’re hosting our first festival where everyone can enjoy some great bands and hear a variety of music! Join us at The Swan in Cheltenham
URL:https://www.twocantheatre.org.uk/event/music-gig/
ATTACH;FMTTYPE=image/jpeg:https://www.twocantheatre.org.uk/wp-content/uploads/2024/04/swanfest.jpg
END:VEVENT
END:VCALENDAR