BEGIN:VCALENDAR
VERSION:2.0
PRODID:-//Inclusive Theatre Company - ECPv6.15.17.1//NONSGML v1.0//EN
CALSCALE:GREGORIAN
METHOD:PUBLISH
X-WR-CALNAME:Inclusive Theatre Company
X-ORIGINAL-URL:https://www.twocantheatre.org.uk
X-WR-CALDESC:Events for Inclusive Theatre Company
REFRESH-INTERVAL;VALUE=DURATION:PT1H
X-Robots-Tag:noindex
X-PUBLISHED-TTL:PT1H
BEGIN:VTIMEZONE
TZID:UTC
BEGIN:STANDARD
TZOFFSETFROM:+0000
TZOFFSETTO:+0000
TZNAME:UTC
DTSTART:20230101T000000
END:STANDARD
END:VTIMEZONE
BEGIN:VEVENT
DTSTART;VALUE=DATE:20240806
DTEND;VALUE=DATE:20240807
DTSTAMP:20260425T165138
CREATED:20240429T101704Z
LAST-MODIFIED:20240507T191617Z
UID:390-1722902400-1722988799@www.twocantheatre.org.uk
SUMMARY:Eastington treasure hunt
DESCRIPTION:With their new knowledge of Eastington\, our Journey 2 Independence members have created a 10-stop treasure hunt that will allow everyone to explore the beautiful village and all it has to offer. \nJoin us!
URL:https://www.twocantheatre.org.uk/event/eastington-treasure-hunt/
ATTACH;FMTTYPE=image/jpeg:https://www.twocantheatre.org.uk/wp-content/uploads/2024/04/treasure-hunt.jpg
END:VEVENT
END:VCALENDAR